BEGIN:VCALENDAR
VERSION:2.0
PRODID:-//Your Company//NONSGML v1.0//EN
CALSCALE:GREGORIAN
BEGIN:VEVENT
UID:11|edinburgh-open-home
DTSTAMP:20260423T122052Z
DTSTART:20260427T003000Z
DTEND:20260427T010000Z
SUMMARY:Open home: Fully renovated! Move in and enjoy!
DESCRIPTION:https://www.edinburghrealty.co.nz/DO12218
LOCATION:39 Prince Albert Road, St Kilda, Dunedin
END:VEVENT
END:VCALENDAR