BEGIN:VCALENDAR
VERSION:2.0
PRODID:-//Your Company//NONSGML v1.0//EN
CALSCALE:GREGORIAN
BEGIN:VEVENT
UID:20|edinburgh-open-home
DTSTAMP:20260424T124123Z
DTSTART:20260427T011500Z
DTEND:20260427T013000Z
SUMMARY:Open home: Coastal charm with future potential
DESCRIPTION:https://www.edinburghrealty.co.nz/DO12243
LOCATION:9 Luke Street, Ocean Grove, Dunedin
END:VEVENT
END:VCALENDAR