BEGIN:VCALENDAR
VERSION:2.0
PRODID:-//Your Company//NONSGML v1.0//EN
CALSCALE:GREGORIAN
BEGIN:VEVENT
UID:41|edinburgh-open-home
DTSTAMP:20260425T145422Z
DTSTART:20260427T010000Z
DTEND:20260427T013000Z
SUMMARY:Open home: Sunny, spacious and practical living
DESCRIPTION:https://www.edinburghrealty.co.nz/DO12270
LOCATION:23B Mure Street, Mosgiel, Taieri
END:VEVENT
END:VCALENDAR