BEGIN:VCALENDAR
VERSION:2.0
PRODID:-//Your Company//NONSGML v1.0//EN
CALSCALE:GREGORIAN
BEGIN:VEVENT
UID:43|edinburgh-open-home
DTSTAMP:20260424T112420Z
DTSTART:20260427T013000Z
DTEND:20260427T014500Z
SUMMARY:Open home: Proven five-bedroom investment near campus
DESCRIPTION:https://www.edinburghrealty.co.nz/IN12267
LOCATION:828 Cumberland Street, North Dunedin, Dunedin
END:VEVENT
END:VCALENDAR