BEGIN:VCALENDAR
VERSION:2.0
PRODID:-//Your Company//NONSGML v1.0//EN
CALSCALE:GREGORIAN
BEGIN:VEVENT
UID:46|edinburgh-open-home
DTSTAMP:20260424T111232Z
DTSTART:20260427T020000Z
DTEND:20260427T021500Z
SUMMARY:Open home: Tidy investment with rental upside
DESCRIPTION:https://www.edinburghrealty.co.nz/IN12268
LOCATION:59 Malvern Street, Woodhaugh, Dunedin
END:VEVENT
END:VCALENDAR