BEGIN:VCALENDAR
VERSION:2.0
PRODID:-//Your Company//NONSGML v1.0//EN
CALSCALE:GREGORIAN
BEGIN:VEVENT
UID:47|edinburgh-open-home
DTSTAMP:20260424T112002Z
DTSTART:20260426T000000Z
DTEND:20260426T003000Z
SUMMARY:Open home: Can't Beat Brand New!!!!
DESCRIPTION:https://www.edinburghrealty.co.nz/MO2100
LOCATION:22 Tapley Close, Halfway Bush, Dunedin
END:VEVENT
END:VCALENDAR