BEGIN:VCALENDAR
VERSION:2.0
PRODID:-//Your Company//NONSGML v1.0//EN
CALSCALE:GREGORIAN
BEGIN:VEVENT
UID:48|edinburgh-open-home
DTSTAMP:20260424T111850Z
DTSTART:20260427T000000Z
DTEND:20260427T003000Z
SUMMARY:Open home: Can't Beat Brand New!!!!
DESCRIPTION:https://www.edinburghrealty.co.nz/MO2100
LOCATION:22 Tapley Close, Halfway Bush, Dunedin
END:VEVENT
END:VCALENDAR