BEGIN:VCALENDAR
VERSION:2.0
PRODID:-//Your Company//NONSGML v1.0//EN
CALSCALE:GREGORIAN
BEGIN:VEVENT
UID:7|edinburgh-open-home
DTSTAMP:20260424T110712Z
DTSTART:20260426T223000Z
DTEND:20260426T230000Z
SUMMARY:Open home: Modern and move in ready!
DESCRIPTION:https://www.edinburghrealty.co.nz/DO12195
LOCATION:1/4 Reid Avenue, Mosgiel, Taieri
END:VEVENT
END:VCALENDAR